BEGIN:VCALENDAR
VERSION:2.0
PRODID:-//Research Animal Training - ECPv6.15.20//NONSGML v1.0//EN
CALSCALE:GREGORIAN
METHOD:PUBLISH
X-WR-CALNAME:Research Animal Training
X-ORIGINAL-URL:https://researchanimaltraining.com
X-WR-CALDESC:Events for Research Animal Training
REFRESH-INTERVAL;VALUE=DURATION:PT1H
X-Robots-Tag:noindex
X-PUBLISHED-TTL:PT1H
BEGIN:VTIMEZONE
TZID:Europe/London
BEGIN:DAYLIGHT
TZOFFSETFROM:+0000
TZOFFSETTO:+0100
TZNAME:BST
DTSTART:20240331T010000
END:DAYLIGHT
BEGIN:STANDARD
TZOFFSETFROM:+0100
TZOFFSETTO:+0000
TZNAME:GMT
DTSTART:20241027T010000
END:STANDARD
BEGIN:DAYLIGHT
TZOFFSETFROM:+0000
TZOFFSETTO:+0100
TZNAME:BST
DTSTART:20250330T010000
END:DAYLIGHT
BEGIN:STANDARD
TZOFFSETFROM:+0100
TZOFFSETTO:+0000
TZNAME:GMT
DTSTART:20251026T010000
END:STANDARD
BEGIN:DAYLIGHT
TZOFFSETFROM:+0000
TZOFFSETTO:+0100
TZNAME:BST
DTSTART:20260329T010000
END:DAYLIGHT
BEGIN:STANDARD
TZOFFSETFROM:+0100
TZOFFSETTO:+0000
TZNAME:GMT
DTSTART:20261025T010000
END:STANDARD
END:VTIMEZONE
BEGIN:VEVENT
DTSTART;VALUE=DATE:20251124
DTEND;VALUE=DATE:20251206
DTSTAMP:20260426T020949
CREATED:20250911T095817Z
LAST-MODIFIED:20251117T201833Z
UID:69657-1763942400-1764979199@researchanimaltraining.com
SUMMARY:Online Workshop: Anaesthesia and Perioperative Care of Laboratory Animals
DESCRIPTION:Sign up closed \n\nDates: 24th\, 25th and 26th November 2025 (rodents and rabbits) and 5th December (large animals).\nTime: 24th-26th November 13:30–15:30 (UK time) and 5th December 09:00–13:00 and 14:00–16:30\nFormat: Pre-recorded webinars\, e-learning modules\, and live\, interactive sessions\nCost: Days 1-4 – £400\, Days 1-3 – £300\, Day 4 – £200 (discounted £150)\n\nIntroduction\nThis workshop will take place on 24th–26th November (focusing on anaesthesia of rodents and rabbits) and on 5th December (large animal anaesthesia). It will be delivered through a combination of pre-recorded webinars\, live webinars\, and e-learning modules. The programme will cover refinements and best practices in anaesthesia and analgesia for rodents\, rabbits\, pigs\, sheep\, and non-human primates. \n\nDays 1–3 (24–26 November): Led by Prof. Paul Flecknell\, focusing on anaesthesia of small rodents.\nDay 4 (5 December): Co-presented by Profs. Eddie Clutton and Paul Flecknell\, covering anaesthesia of rabbits\, pigs\, sheep\, and non-human primates.\n\nThe workshop will be hosted on the Research Animal Training website. \nWho Should Attend\nThis workshop is designed for animal technicians\, veterinarians\, researchers\, and others who wish to deepen their understanding of the topic and apply refinements to their protocols. \nParticipants will have access to eight e-learning modules tailored for those with limited prior experience\, along with seven hours of pre-recorded seminars. \nThis preparation allows the live sessions to focus primarily on problem-based learning\, progressing from simple to more complex protocols. For each practical challenge\, we will work together to identify refinements that enhance both scientific outcomes and the welfare of the animals involved. \nWhat to Expect\n\nAll participants\, including those registering for Day 4 only\, will have access to pre-recorded seminars and a series of e-learning modules.\nTo support flexible scheduling\, the pre-recorded seminars are divided into shorter 15–30 minute video segments that can be viewed independently.\nThe e-learning modules\, aligned with EU21 learning outcomes\, are organised into individual lessons\, allowing participants to pause and resume at their convenience.\nLive sessions will be held at 13:30–15:30 (UK time) on 24th\, 25th\, and 26th November\, and on 5th December from 09:00–13:00 and 14:00–16:30.\n\nContent\n\nOver 7 hours of pre-recorded seminars.\nEight e-learning modules.\nDays 1–3: Three 2-hour live\, problem-based sessions on rodents.\nDay 4: Four 1-hour seminars followed by 2.5 hours of problem-based sessions on larger species.\nSupplementary reading and reference materials.\nAll pre-recorded content is available in advance\, and participants are encouraged to review it before the live sessions.\nParticipants can access all content for 3 months after its release.\nWorkshop registration also includes access to all other training materials on the Research Animal Training (RAT) website.\n\nInteractivity\n\nPre-recorded seminars and e-learning modules will be available on www.researchanimaltraining.com\, while live sessions will be conducted via the Teams webinar platform.\nInteractive elements will be supported using Mentimeter (mentimeter.com).\nWhile not required\, participants may find it helpful to have a smartphone or tablet in addition to a laptop for the interactive sessions.\n\nWorkshop Programme\nDays 1–3 (24th–26th November) \n13:30–15:30: Interactive sessions – Managing anaesthesia of laboratory rodents \n\nScenario-based exercises will encourage participants to apply their knowledge of rodent anaesthesia to solve practical problems.\nSessions will also include time for general discussion and Q&A.\n\nDay 4 (5th December) \n09:00–13:00: Live webinars – What you need to know if you anaesthetise rabbits\, pigs\, sheep\, or primates \n\nWebinars for each species\, followed by Q&A sessions.\n\n14:00–16:30: Interactive sessions – Managing anaesthesia of larger species \n\nScenario-based exercises will focus on applying knowledge of anaesthesia to practical problems\, with an emphasis on using and interpreting data from monitoring devices.\nTime will also be allocated for discussion and Q&A.\n\nParticipant numbers are limited to ensure interactive sessions remain engaging and effective. \nMake best practice your practice and sign up today. \nSign up closed
URL:https://researchanimaltraining.com/event/workshop-anaesthesia-and-perioperative-care-of-laboratory-animals-nov-2025/
CATEGORIES:November 2025
ATTACH;FMTTYPE=image/jpeg:https://researchanimaltraining.com/wp-content/uploads/2025/02/CBC-3278-scaled.jpg
ORGANIZER;CN="Flaire Consultants":MAILTO:paul@flaireconsultants.com
END:VEVENT
END:VCALENDAR